BEGIN:VCALENDAR
VERSION:2.0
PRODID:-//ChamberMaster//Event Calendar 2.0//EN
METHOD:PUBLISH
X-PUBLISHED-TTL:P3D
REFRESH-INTERVAL:P3D
CALSCALE:GREGORIAN
BEGIN:VEVENT
DTSTART:20210420T210000Z
DTEND:20210420T220000Z
X-MICROSOFT-CDO-ALLDAYEVENT:FALSE
SUMMARY:Learn & Meet Virtual Networking
DESCRIPTION:Make new contacts and learn how to use LinkedIn to grow your business!\n\nSponsored by Networking Professionals of Westchester
X-ALT-DESC;FMTTYPE=text/html:<span class="JsGRdQ" style="font-weight: 700\; color: rgb(75\, 75\, 75)\;">Make new contacts and learn how to use LinkedIn to grow your business!<br />\nSponsored by Networking Professionals of Westchester</span>
LOCATION:Register in advance for this meeting: https://zoom.us/meeting/register/tJ0ud-uuqD8sGdzQ3Z_dvLHgK53y8R8xvtyR
UID:e.2688.11155
SEQUENCE:3
DTSTAMP:20260420T144626Z
URL:http://hvgatewaychamberny.chambermaster.com/events/details/learn-meet-virtual-networking-11155
END:VEVENT

END:VCALENDAR
